BEGIN:VCALENDAR
VERSION:2.0
PRODID:-//Mike Risko Music School - ECPv6.15.18//NONSGML v1.0//EN
CALSCALE:GREGORIAN
METHOD:PUBLISH
X-WR-CALNAME:Mike Risko Music School
X-ORIGINAL-URL:https://mikeriskomusicschool.com
X-WR-CALDESC:Events for Mike Risko Music School
REFRESH-INTERVAL;VALUE=DURATION:PT1H
X-Robots-Tag:noindex
X-PUBLISHED-TTL:PT1H
BEGIN:VTIMEZONE
TZID:America/New_York
BEGIN:DAYLIGHT
TZOFFSETFROM:-0500
TZOFFSETTO:-0400
TZNAME:EDT
DTSTART:20240310T070000
END:DAYLIGHT
BEGIN:STANDARD
TZOFFSETFROM:-0400
TZOFFSETTO:-0500
TZNAME:EST
DTSTART:20241103T060000
END:STANDARD
BEGIN:DAYLIGHT
TZOFFSETFROM:-0500
TZOFFSETTO:-0400
TZNAME:EDT
DTSTART:20250309T070000
END:DAYLIGHT
BEGIN:STANDARD
TZOFFSETFROM:-0400
TZOFFSETTO:-0500
TZNAME:EST
DTSTART:20251102T060000
END:STANDARD
BEGIN:DAYLIGHT
TZOFFSETFROM:-0500
TZOFFSETTO:-0400
TZNAME:EDT
DTSTART:20260308T070000
END:DAYLIGHT
BEGIN:STANDARD
TZOFFSETFROM:-0400
TZOFFSETTO:-0500
TZNAME:EST
DTSTART:20261101T060000
END:STANDARD
END:VTIMEZONE
BEGIN:VEVENT
DTSTART;TZID=America/New_York:20250816T113000
DTEND;TZID=America/New_York:20250816T123000
DTSTAMP:20260419T192655
CREATED:20250814T152104Z
LAST-MODIFIED:20250814T152834Z
UID:10000029-1755343800-1755347400@mikeriskomusicschool.com
SUMMARY:Mike & Miriam Acoustic at Putnam County Wine & Music Fest
DESCRIPTION:Mike and Miriam are doing a one hour acoustic set at the Putnam County Wine & Food Fest\, from 11:30am-12:30pm!
URL:https://mikeriskomusicschool.com/event/mike-miriam-acoustic-at-putnam-county-wine-music-fest-2025/
LOCATION:Putnam County Veterans Memorial Park\, 201 Gipsy Trail Rd.\, Carmel\, NY\, 10512\, United States
CATEGORIES:Community Events,Mike Risko Band,Shows
ATTACH;FMTTYPE=image/jpeg:https://mikeriskomusicschool.com/wp-content/uploads/2025/08/mike-risko-band_2025-08-16-17-wine-music-fest.jpg
END:VEVENT
END:VCALENDAR