BEGIN:VCALENDAR
VERSION:2.0
PRODID:-//Mike Risko Music School - ECPv6.15.18//NONSGML v1.0//EN
CALSCALE:GREGORIAN
METHOD:PUBLISH
X-ORIGINAL-URL:https://mikeriskomusicschool.com
X-WR-CALDESC:Events for Mike Risko Music School
REFRESH-INTERVAL;VALUE=DURATION:PT1H
X-Robots-Tag:noindex
X-PUBLISHED-TTL:PT1H
BEGIN:VTIMEZONE
TZID:America/New_York
BEGIN:DAYLIGHT
TZOFFSETFROM:-0500
TZOFFSETTO:-0400
TZNAME:EDT
DTSTART:20240310T070000
END:DAYLIGHT
BEGIN:STANDARD
TZOFFSETFROM:-0400
TZOFFSETTO:-0500
TZNAME:EST
DTSTART:20241103T060000
END:STANDARD
BEGIN:DAYLIGHT
TZOFFSETFROM:-0500
TZOFFSETTO:-0400
TZNAME:EDT
DTSTART:20250309T070000
END:DAYLIGHT
BEGIN:STANDARD
TZOFFSETFROM:-0400
TZOFFSETTO:-0500
TZNAME:EST
DTSTART:20251102T060000
END:STANDARD
BEGIN:DAYLIGHT
TZOFFSETFROM:-0500
TZOFFSETTO:-0400
TZNAME:EDT
DTSTART:20260308T070000
END:DAYLIGHT
BEGIN:STANDARD
TZOFFSETFROM:-0400
TZOFFSETTO:-0500
TZNAME:EST
DTSTART:20261101T060000
END:STANDARD
END:VTIMEZONE
BEGIN:VEVENT
DTSTART;TZID=America/New_York:20250625T170000
DTEND;TZID=America/New_York:20250625T190000
DTSTAMP:20260420T194002
CREATED:20250611T195616Z
LAST-MODIFIED:20250611T195616Z
UID:10000026-1750870800-1750878000@mikeriskomusicschool.com
SUMMARY:OEC PTA Park and Brookside End of Year Bash
DESCRIPTION:OEC PTA invites you to: Park and Brookside End of Year Bash! \nJoin us at the Ossining Waterfront for live music by MRB plus student showcases from Mike Risko Music School! There will also be food trucks\, bubbles\, raffles\, and more!
URL:https://mikeriskomusicschool.com/event/oec-pta-park-and-brookside-end-of-year-bash-2025/
LOCATION:Louis Engel Waterfront Park\, 25 Westerly Rd\, Ossining\, NY\, 10562\, United States
CATEGORIES:Community Events,Mike Risko Band,Mike Risko Music,Music School Events,Shows
ATTACH;FMTTYPE=image/jpeg:https://mikeriskomusicschool.com/wp-content/uploads/2025/06/mike-risko-band_2025-06-25_oec-pta.jpg
END:VEVENT
END:VCALENDAR