BEGIN:VCALENDAR
VERSION:2.0
PRODID:-//Mike Risko Music School - ECPv6.15.18//NONSGML v1.0//EN
CALSCALE:GREGORIAN
METHOD:PUBLISH
X-ORIGINAL-URL:https://mikeriskomusicschool.com
X-WR-CALDESC:Events for Mike Risko Music School
REFRESH-INTERVAL;VALUE=DURATION:PT1H
X-Robots-Tag:noindex
X-PUBLISHED-TTL:PT1H
BEGIN:VTIMEZONE
TZID:America/New_York
BEGIN:DAYLIGHT
TZOFFSETFROM:-0500
TZOFFSETTO:-0400
TZNAME:EDT
DTSTART:20240310T070000
END:DAYLIGHT
BEGIN:STANDARD
TZOFFSETFROM:-0400
TZOFFSETTO:-0500
TZNAME:EST
DTSTART:20241103T060000
END:STANDARD
BEGIN:DAYLIGHT
TZOFFSETFROM:-0500
TZOFFSETTO:-0400
TZNAME:EDT
DTSTART:20250309T070000
END:DAYLIGHT
BEGIN:STANDARD
TZOFFSETFROM:-0400
TZOFFSETTO:-0500
TZNAME:EST
DTSTART:20251102T060000
END:STANDARD
BEGIN:DAYLIGHT
TZOFFSETFROM:-0500
TZOFFSETTO:-0400
TZNAME:EDT
DTSTART:20260308T070000
END:DAYLIGHT
BEGIN:STANDARD
TZOFFSETFROM:-0400
TZOFFSETTO:-0500
TZNAME:EST
DTSTART:20261101T060000
END:STANDARD
END:VTIMEZONE
BEGIN:VEVENT
DTSTART;TZID=America/New_York:20250427T150000
DTEND;TZID=America/New_York:20250427T180000
DTSTAMP:20260422T121947
CREATED:20250220T185510Z
LAST-MODIFIED:20250318T194959Z
UID:10000004-1745766000-1745776800@mikeriskomusicschool.com
SUMMARY:Mike Risko Band Acoustic at Captain Lawrence Mt Kisco
DESCRIPTION:Join Mike Risko Band for an afternoon filled with acoustic rock songs everyone loves! From legendary classics to contemporary chartbusters.
URL:https://mikeriskomusicschool.com/event/mike-risko-band-acoustic-at-captain-lawrence-mt-kisco-2025-04-27/
LOCATION:Captain Lawrence Barrel House\, 369 Lexington Ave\, Mt Kisco\, NY\, 10549\, United States
CATEGORIES:Mike Risko Band,Shows
ATTACH;FMTTYPE=image/jpeg:https://mikeriskomusicschool.com/wp-content/uploads/2025/02/mike-risko-band_2025-04-27_captain-lawrence.jpg
END:VEVENT
END:VCALENDAR