BEGIN:VCALENDAR
VERSION:2.0
PRODID:-//Mike Risko Music School - ECPv6.15.18//NONSGML v1.0//EN
CALSCALE:GREGORIAN
METHOD:PUBLISH
X-WR-CALNAME:Mike Risko Music School
X-ORIGINAL-URL:https://mikeriskomusicschool.com
X-WR-CALDESC:Events for Mike Risko Music School
REFRESH-INTERVAL;VALUE=DURATION:PT1H
X-Robots-Tag:noindex
X-PUBLISHED-TTL:PT1H
BEGIN:VTIMEZONE
TZID:America/New_York
BEGIN:DAYLIGHT
TZOFFSETFROM:-0500
TZOFFSETTO:-0400
TZNAME:EDT
DTSTART:20240310T070000
END:DAYLIGHT
BEGIN:STANDARD
TZOFFSETFROM:-0400
TZOFFSETTO:-0500
TZNAME:EST
DTSTART:20241103T060000
END:STANDARD
BEGIN:DAYLIGHT
TZOFFSETFROM:-0500
TZOFFSETTO:-0400
TZNAME:EDT
DTSTART:20250309T070000
END:DAYLIGHT
BEGIN:STANDARD
TZOFFSETFROM:-0400
TZOFFSETTO:-0500
TZNAME:EST
DTSTART:20251102T060000
END:STANDARD
BEGIN:DAYLIGHT
TZOFFSETFROM:-0500
TZOFFSETTO:-0400
TZNAME:EDT
DTSTART:20260308T070000
END:DAYLIGHT
BEGIN:STANDARD
TZOFFSETFROM:-0400
TZOFFSETTO:-0500
TZNAME:EST
DTSTART:20261101T060000
END:STANDARD
END:VTIMEZONE
BEGIN:VEVENT
DTSTART;TZID=America/New_York:20250711T180000
DTEND;TZID=America/New_York:20250711T210000
DTSTAMP:20260421T110932
CREATED:20250611T194303Z
LAST-MODIFIED:20250611T194351Z
UID:10000024-1752256800-1752267600@mikeriskomusicschool.com
SUMMARY:Mike Risko Band at The Valley Summer Series at Jefferson Valley Mall
DESCRIPTION:The Jefferson Valley Mall has a new summer concert series and MRB will be playing on Friday July 11 6-9PM. They always deliver some great events at this mall so be sure to join us. There will be food\, kids activities and music. Oh\, and you can even go shopping! Hope to see you there!
URL:https://mikeriskomusicschool.com/event/mike-risko-band-at-the-valley-summer-series-at-jefferson-valley-mall-2025/
LOCATION:Jefferson Valley Mall\, 650 Lee Blvd\, Yorktown Heights\, NY\, 10598\, United States
CATEGORIES:Community Events,Mike Risko Band,Shows
ATTACH;FMTTYPE=image/jpeg:https://mikeriskomusicschool.com/wp-content/uploads/2025/06/mike-risko-band_2025-07-11_the-valley-summer-series.jpg
END:VEVENT
BEGIN:VEVENT
DTSTART;TZID=America/New_York:20250712T190000
DTEND;TZID=America/New_York:20250712T220000
DTSTAMP:20260421T110932
CREATED:20250611T194825Z
LAST-MODIFIED:20250611T194856Z
UID:10000025-1752346800-1752357600@mikeriskomusicschool.com
SUMMARY:Mike Risko Band at Spins Bowl Carmel
DESCRIPTION:Live music + bowling\, arcade games\, food & drinks — make a night of it at Spins Bowl Carmel! Mike Risko Band is playing from 7-10PM! See you there!
URL:https://mikeriskomusicschool.com/event/mike-risko-band-at-spins-carmel-2025-07-12/
LOCATION:Spins Bowl Carmel\, 23 Old Rte 6\, Carmel Hamlet\, NY\, 10512\, United States
CATEGORIES:Mike Risko Band,Shows
ATTACH;FMTTYPE=image/jpeg:https://mikeriskomusicschool.com/wp-content/uploads/2025/06/mike-risko-band_2025-07-12_spins-bowl-carmel.jpg
END:VEVENT
BEGIN:VEVENT
DTSTART;TZID=America/New_York:20250713T170000
DTEND;TZID=America/New_York:20250713T200000
DTSTAMP:20260421T110932
CREATED:20250711T134338Z
LAST-MODIFIED:20250711T134338Z
UID:10000028-1752426000-1752436800@mikeriskomusicschool.com
SUMMARY:Mike Risko Band at Barley on the Hudson
DESCRIPTION:Back at the Barley right on the Hudson in Tarrytown for an evening of acoustic music! Join us for great views\, lobster rolls and live music!
URL:https://mikeriskomusicschool.com/event/mike-risko-band-at-barley-on-the-hudson-2025-07-13/
LOCATION:Barley on the Hudson\, 236 Green St\, Tarrytown\, NY\, 10591\, United States
CATEGORIES:Mike Risko Band,Shows
ATTACH;FMTTYPE=image/jpeg:https://mikeriskomusicschool.com/wp-content/uploads/2025/07/mike-risko-band_2025-07-11_barley-on-the-hudson.jpg
END:VEVENT
BEGIN:VEVENT
DTSTART;TZID=America/New_York:20250724T180000
DTEND;TZID=America/New_York:20250724T200000
DTSTAMP:20260421T110932
CREATED:20250530T201335Z
LAST-MODIFIED:20250530T201335Z
UID:10000019-1753380000-1753387200@mikeriskomusicschool.com
SUMMARY:Mike Risko Band at Music in the Square in Armonk
DESCRIPTION:We are so excited to make our debut in Armonk this summer at the Armonk Chamber of Commerce Music in the Square from 6-8pm on July 24th. Bring chairs and the whole family for a fun night of music outdoors.
URL:https://mikeriskomusicschool.com/event/mike-risko-band-music-in-the-square-armonk-2025-07-24/
LOCATION:Armonk Square\, 402 Main Street\, Armonk\, NY\, 10504\, United States
CATEGORIES:Community Events,Mike Risko Band,Shows
ATTACH;FMTTYPE=image/jpeg:https://mikeriskomusicschool.com/wp-content/uploads/2025/05/mike-risko-band_2025-07-24_music-in-the-square.jpg
END:VEVENT
BEGIN:VEVENT
DTSTART;TZID=America/New_York:20250726T200000
DTEND;TZID=America/New_York:20250726T230000
DTSTAMP:20260421T110932
CREATED:20250530T201603Z
LAST-MODIFIED:20250611T194448Z
UID:10000020-1753560000-1753570800@mikeriskomusicschool.com
SUMMARY:Mike Risko Band at The Boathouse in Ossining
DESCRIPTION:We love this spot! Join us for a night of music at the Boathouse Restaurant in Ossining right on the Hudson River! Make a reservation for dinner and join us outdoors at their Boatbar. It’s going to be such a fun night!
URL:https://mikeriskomusicschool.com/event/mike-risko-band-at-the-boathouse-2025-07-26/
LOCATION:The Boathouse\, 46 Westerly Rd\, Ossining\, NY\, 10562\, United States
CATEGORIES:Mike Risko Band,Shows
ATTACH;FMTTYPE=image/jpeg:https://mikeriskomusicschool.com/wp-content/uploads/2025/05/mike-risko-band_2025-07-26_the-boathouse.jpg
END:VEVENT
BEGIN:VEVENT
DTSTART;TZID=America/New_York:20250731T190000
DTEND;TZID=America/New_York:20250731T210000
DTSTAMP:20260421T110932
CREATED:20250530T201905Z
LAST-MODIFIED:20250530T201921Z
UID:10000021-1753988400-1753995600@mikeriskomusicschool.com
SUMMARY:Mike Risko Band at Putnam Valley Sunset Concert Series
DESCRIPTION:Join us on July 31st from 7pm-9pm at the Putnam Valley Town Park as we make our debut at the Putnam Valley Sunset Concert Series. Bring your chairs\, your family and friends and let’s watch the sunset together while you listen to the Mike Risko Band! We can’t wait!
URL:https://mikeriskomusicschool.com/event/mike-risko-band-at-putnam-valley-sunset-concert-series-2025/
LOCATION:Putnam Valley Town Park\, 156 Oscawana Lake Rd\, Putnam Valley\, NY\, 10579\, United States
CATEGORIES:Community Events,Mike Risko Band,Shows
ATTACH;FMTTYPE=image/jpeg:https://mikeriskomusicschool.com/wp-content/uploads/2025/05/mike-risko-band_2025-07-31_sunset-series.jpg
END:VEVENT
END:VCALENDAR